BEGIN:VCALENDAR
VERSION:2.0
PRODID:-//Stadt Obermoschel - ECPv6.15.20//NONSGML v1.0//EN
CALSCALE:GREGORIAN
METHOD:PUBLISH
X-ORIGINAL-URL:https://obermoschel.de
X-WR-CALDESC:Veranstaltungen für Stadt Obermoschel
REFRESH-INTERVAL;VALUE=DURATION:PT1H
X-Robots-Tag:noindex
X-PUBLISHED-TTL:PT1H
BEGIN:VTIMEZONE
TZID:Europe/Berlin
BEGIN:DAYLIGHT
TZOFFSETFROM:+0100
TZOFFSETTO:+0200
TZNAME:CEST
DTSTART:20240331T010000
END:DAYLIGHT
BEGIN:STANDARD
TZOFFSETFROM:+0200
TZOFFSETTO:+0100
TZNAME:CET
DTSTART:20241027T010000
END:STANDARD
BEGIN:DAYLIGHT
TZOFFSETFROM:+0100
TZOFFSETTO:+0200
TZNAME:CEST
DTSTART:20250330T010000
END:DAYLIGHT
BEGIN:STANDARD
TZOFFSETFROM:+0200
TZOFFSETTO:+0100
TZNAME:CET
DTSTART:20251026T010000
END:STANDARD
BEGIN:DAYLIGHT
TZOFFSETFROM:+0100
TZOFFSETTO:+0200
TZNAME:CEST
DTSTART:20260329T010000
END:DAYLIGHT
BEGIN:STANDARD
TZOFFSETFROM:+0200
TZOFFSETTO:+0100
TZNAME:CET
DTSTART:20261025T010000
END:STANDARD
END:VTIMEZONE
BEGIN:VEVENT
DTSTART;TZID=Europe/Berlin:20250420T130000
DTEND;TZID=Europe/Berlin:20250420T180000
DTSTAMP:20260423T213430
CREATED:20250415T175006Z
LAST-MODIFIED:20250415T175041Z
UID:279-1745154000-1745172000@obermoschel.de
SUMMARY:Ostereierschießen Bogenschützen TuS Landsberg Obermoschel
DESCRIPTION:
URL:https://obermoschel.de/event/ostereierschiessen-bogenschuetzen-tus-landsberg-obermoschel/
LOCATION:Bogenheim TuS Landsberg Obermoschel\, Moschellandsberg\, Obermoschel\, Rheinland-Pfalz\, 67823\, Germany
CATEGORIES:Vereinsfest
ATTACH;FMTTYPE=image/jpeg:https://obermoschel.de/wp-content/uploads/2025/04/250420_TuS_Ostereierschiessen.jpeg
ORGANIZER;CN="TuS Landsberg Obermoschel":MAILTO:tus-landsberg@mail.de
END:VEVENT
END:VCALENDAR