BEGIN:VCALENDAR
VERSION:2.0
PRODID:-//Stadt Obermoschel - ECPv6.15.20//NONSGML v1.0//EN
CALSCALE:GREGORIAN
METHOD:PUBLISH
X-ORIGINAL-URL:https://obermoschel.de
X-WR-CALDESC:Veranstaltungen für Stadt Obermoschel
REFRESH-INTERVAL;VALUE=DURATION:PT1H
X-Robots-Tag:noindex
X-PUBLISHED-TTL:PT1H
BEGIN:VTIMEZONE
TZID:Europe/Berlin
BEGIN:DAYLIGHT
TZOFFSETFROM:+0100
TZOFFSETTO:+0200
TZNAME:CEST
DTSTART:20240331T010000
END:DAYLIGHT
BEGIN:STANDARD
TZOFFSETFROM:+0200
TZOFFSETTO:+0100
TZNAME:CET
DTSTART:20241027T010000
END:STANDARD
BEGIN:DAYLIGHT
TZOFFSETFROM:+0100
TZOFFSETTO:+0200
TZNAME:CEST
DTSTART:20250330T010000
END:DAYLIGHT
BEGIN:STANDARD
TZOFFSETFROM:+0200
TZOFFSETTO:+0100
TZNAME:CET
DTSTART:20251026T010000
END:STANDARD
BEGIN:DAYLIGHT
TZOFFSETFROM:+0100
TZOFFSETTO:+0200
TZNAME:CEST
DTSTART:20260329T010000
END:DAYLIGHT
BEGIN:STANDARD
TZOFFSETFROM:+0200
TZOFFSETTO:+0100
TZNAME:CET
DTSTART:20261025T010000
END:STANDARD
END:VTIMEZONE
BEGIN:VEVENT
DTSTART;TZID=Europe/Berlin:20250614T110000
DTEND;TZID=Europe/Berlin:20250615T180000
DTSTAMP:20260423T170256
CREATED:20250312T172904Z
LAST-MODIFIED:20250312T192010Z
UID:216-1749898800-1750010400@obermoschel.de
SUMMARY:24. Mittelalterliches Spectaculum Obermoschel
DESCRIPTION:Auch im Jahr 2025 veranstaltet die Stadt Obermoschel am 2. Juniwochenende wieder ihr\nmittelalterliches Spectaculum. \nAm 14. und 15. Juni findet die beliebte Veranstaltung bereits zum 24. Mal in der Ruine der\nMoschellandsburg statt. Diese thront hoch über der kleinsten pfälzischen Stadt auf einem Felssporn\nund bietet einen spektakulären Ausblick auf das Nordpfälzer Hügelland. \nVon den Besucherparkplätzen\, die direkt unterhalb der Burg liegen\, gelangen die Gäste zuerst in\ndas Lager der angereisten Mittelaltergruppen. Dort treffen sie auf frühmittelalterliche Wikinger und\nSlawen\, Kreuzfahrer und Pilger\, sowie hochmittelalterliche Ritter in beeindruckenden\nPlattenpanzern. \nMan erhält Einblicke in mittelalterliches Leben\, Handwerk und in die Kriegskunst.\nWer möchte kann sich im Bogenschießen ausprobieren oder den hochmittelalterlichen Kanonieren\nzuschauen\, die zu bestimmten Zeiten ihren Umgang mit Hakenbüchsen und Kanonen\ndemonstrieren. \nSehenswert sind auch die regelmäßigen Waffenübungen und die Feldschlacht\, die\nan beiden Tagen nachmittags stattfindet.\nZu einem weiteren Höhepunkt hat sich mittlerweile das Bogenturnier entwickelt\, das immer\nsamstags ausgetragen wird und bei dem jeder\, der über einen historischen Blankbogen verfügt\,\nteilnehmen kann.\nFür die Kinder gibt es ein Suchrätsel\, dessen Lösungsbuchstaben über das gesamte Marktgelände\nverteilt sind. Wer das Lösungswort herausgefunden hat\, wird dafür mit einem kleinen Preis belohnt.\nHat man das Lager ausgiebig erkundet\, kann man sich auf den Weg in die Kernburg machen.\nHändler und Kaufleute von nah und fern bieten ihre Waren an und altes Handwerk wird gezeigt.\nDoch aufpassen\, auch schreckliche Orks sind in der Burg unterwegs und treiben ihre derben Späße! \nWer Entspannung sucht\, findet diese beim Leibkneter\, der schon so manchen schmerzenden\nRücken wieder gerichtet hat.\nIm Schatten des alten Lindenbaums kann man sich schließlich im Burghof ausruhen und das\nProgramm auf der Bühne genießen\, dass dem Volk von Junker Jörg präsentiert wird. Außer dem\nGaukler „Flobold“ und der Sängerin „Solaria“ sind dort auch die Spielleute von „Trio cum Laute“\nund „Ranunculus “ zu hören.\nFür ruhige Momente sorgt „Regilau“ mit ihrer Harfe und in einer gemütlichen Ecke erzählt „Chnutz\nvom Hopfen“ seinen Zuhörern Geschichten aus aller Welt.\nUm Hunger und Durst zu bekämpfen\, stehen mehrere Händler und die Burgtaverne bereit. Es\nwarten kühles Bier und Wein\, Brausen und Säfte und je nach Appetit gibt es Flammkuchen\, Langos\,\ngezupftes Schwein oder Suppen im Brotteig. Für die Süßmäuler stehen transsylvanische\nBaumstrietzel oder hausgemachte Kuchen bereit. Am Samstagabend\, bei Einbruch der Dunkelheit\nzeigen dann die Feuerspucker und Tänzerinnen der Gruppe „Feuerplanet“ ihr großes Können mit\nden heißen Flammen und ziehen damit wieder die Gäste in ihren Bann. \nParkplätze befinden sich in ausreichender Zahl unterhalb der Burg. \nDer Eintritt beträgt: \nFür Erwachsene 10\,-€ (16\,-€ Wochenendticket)\nKinder ab 140 cm und Gewandete zahlen 7\,-€ (12\,-€Wochenendticket)\nKinder bis zum Schwertmaß haben freien Eintritt! \nFür Wochenendgäste mit Wohnmobil/Wohnwagengespann gibt es eine begrenzte Zahl an\nStellplätzen (Buchung über hajuruppert@gmx.de).
URL:https://obermoschel.de/event/24-mittelalterliches-spectaculum-obermoschel/
CATEGORIES:Märkte
ATTACH;FMTTYPE=image/jpeg:https://obermoschel.de/wp-content/uploads/2025/03/A-6-MITTELALTER-DEUTSCH-VORDERSEITE-2024.jpg
END:VEVENT
END:VCALENDAR